BEGIN:VCALENDAR
VERSION:2.0
PRODID:-//Master Key Live - ECPv6.15.20//NONSGML v1.0//EN
CALSCALE:GREGORIAN
METHOD:PUBLISH
X-WR-CALNAME:Master Key Live
X-ORIGINAL-URL:https://app.masterkeylive.com
X-WR-CALDESC:Events for Master Key Live
REFRESH-INTERVAL;VALUE=DURATION:PT1H
X-Robots-Tag:noindex
X-PUBLISHED-TTL:PT1H
BEGIN:VTIMEZONE
TZID:UTC
BEGIN:STANDARD
TZOFFSETFROM:+0000
TZOFFSETTO:+0000
TZNAME:UTC
DTSTART:20250101T000000
END:STANDARD
END:VTIMEZONE
BEGIN:VEVENT
DTSTART;TZID=UTC:20260518T080000
DTEND;TZID=UTC:20260518T170000
DTSTAMP:20260423T194910
CREATED:20260423T144013Z
LAST-MODIFIED:20260423T144032Z
UID:10000002-1779091200-1779123600@app.masterkeylive.com
SUMMARY:This is a Test Event
DESCRIPTION:
URL:https://app.masterkeylive.com/event/this-is-a-test-event/2026-05-18/
ATTACH;FMTTYPE=image/png:https://app.masterkeylive.com/wp-content/uploads/2026/04/28bbffaa-f7e7-4219-a06c-8ec6c7ed7958-e1776953394482.png
LOCATION:
END:VEVENT
BEGIN:VEVENT
DTSTART;TZID=UTC:20260615T080000
DTEND;TZID=UTC:20260615T170000
DTSTAMP:20260423T194911
CREATED:20260423T144013Z
LAST-MODIFIED:20260423T144032Z
UID:10000003-1781510400-1781542800@app.masterkeylive.com
SUMMARY:This is a Test Event
DESCRIPTION:
URL:https://app.masterkeylive.com/event/this-is-a-test-event/2026-06-15/
ATTACH;FMTTYPE=image/png:https://app.masterkeylive.com/wp-content/uploads/2026/04/28bbffaa-f7e7-4219-a06c-8ec6c7ed7958-e1776953394482.png
LOCATION:
END:VEVENT
BEGIN:VEVENT
DTSTART;TZID=UTC:20260720T080000
DTEND;TZID=UTC:20260720T170000
DTSTAMP:20260423T194911
CREATED:20260423T144013Z
LAST-MODIFIED:20260423T144032Z
UID:10000004-1784534400-1784566800@app.masterkeylive.com
SUMMARY:This is a Test Event
DESCRIPTION:
URL:https://app.masterkeylive.com/event/this-is-a-test-event/2026-07-20/
ATTACH;FMTTYPE=image/png:https://app.masterkeylive.com/wp-content/uploads/2026/04/28bbffaa-f7e7-4219-a06c-8ec6c7ed7958-e1776953394482.png
LOCATION:
END:VEVENT
BEGIN:VEVENT
DTSTART;TZID=UTC:20260817T080000
DTEND;TZID=UTC:20260817T170000
DTSTAMP:20260423T194911
CREATED:20260423T144013Z
LAST-MODIFIED:20260423T144032Z
UID:10000005-1786953600-1786986000@app.masterkeylive.com
SUMMARY:This is a Test Event
DESCRIPTION:
URL:https://app.masterkeylive.com/event/this-is-a-test-event/2026-08-17/
ATTACH;FMTTYPE=image/png:https://app.masterkeylive.com/wp-content/uploads/2026/04/28bbffaa-f7e7-4219-a06c-8ec6c7ed7958-e1776953394482.png
LOCATION:
END:VEVENT
BEGIN:VEVENT
DTSTART;TZID=UTC:20260921T080000
DTEND;TZID=UTC:20260921T170000
DTSTAMP:20260423T194911
CREATED:20260423T144013Z
LAST-MODIFIED:20260423T144032Z
UID:10000006-1789977600-1790010000@app.masterkeylive.com
SUMMARY:This is a Test Event
DESCRIPTION:
URL:https://app.masterkeylive.com/event/this-is-a-test-event/2026-09-21/
ATTACH;FMTTYPE=image/png:https://app.masterkeylive.com/wp-content/uploads/2026/04/28bbffaa-f7e7-4219-a06c-8ec6c7ed7958-e1776953394482.png
LOCATION:
END:VEVENT
BEGIN:VEVENT
DTSTART;TZID=UTC:20261019T080000
DTEND;TZID=UTC:20261019T170000
DTSTAMP:20260423T194911
CREATED:20260423T144013Z
LAST-MODIFIED:20260423T144032Z
UID:10000007-1792396800-1792429200@app.masterkeylive.com
SUMMARY:This is a Test Event
DESCRIPTION:
URL:https://app.masterkeylive.com/event/this-is-a-test-event/2026-10-19/
ATTACH;FMTTYPE=image/png:https://app.masterkeylive.com/wp-content/uploads/2026/04/28bbffaa-f7e7-4219-a06c-8ec6c7ed7958-e1776953394482.png
LOCATION:
END:VEVENT
BEGIN:VEVENT
DTSTART;TZID=UTC:20261116T080000
DTEND;TZID=UTC:20261116T170000
DTSTAMP:20260423T194911
CREATED:20260423T144013Z
LAST-MODIFIED:20260423T144032Z
UID:10000008-1794816000-1794848400@app.masterkeylive.com
SUMMARY:This is a Test Event
DESCRIPTION:
URL:https://app.masterkeylive.com/event/this-is-a-test-event/2026-11-16/
ATTACH;FMTTYPE=image/png:https://app.masterkeylive.com/wp-content/uploads/2026/04/28bbffaa-f7e7-4219-a06c-8ec6c7ed7958-e1776953394482.png
LOCATION:
END:VEVENT
BEGIN:VEVENT
DTSTART;TZID=UTC:20261221T080000
DTEND;TZID=UTC:20261221T170000
DTSTAMP:20260423T194911
CREATED:20260423T144013Z
LAST-MODIFIED:20260423T144032Z
UID:10000009-1797840000-1797872400@app.masterkeylive.com
SUMMARY:This is a Test Event
DESCRIPTION:
URL:https://app.masterkeylive.com/event/this-is-a-test-event/2026-12-21/
ATTACH;FMTTYPE=image/png:https://app.masterkeylive.com/wp-content/uploads/2026/04/28bbffaa-f7e7-4219-a06c-8ec6c7ed7958-e1776953394482.png
LOCATION:
END:VEVENT
BEGIN:VEVENT
DTSTART;TZID=UTC:20270118T080000
DTEND;TZID=UTC:20270118T170000
DTSTAMP:20260423T194911
CREATED:20260423T144013Z
LAST-MODIFIED:20260423T144032Z
UID:10000010-1800259200-1800291600@app.masterkeylive.com
SUMMARY:This is a Test Event
DESCRIPTION:
URL:https://app.masterkeylive.com/event/this-is-a-test-event/2027-01-18/
ATTACH;FMTTYPE=image/png:https://app.masterkeylive.com/wp-content/uploads/2026/04/28bbffaa-f7e7-4219-a06c-8ec6c7ed7958-e1776953394482.png
LOCATION:
END:VEVENT
BEGIN:VEVENT
DTSTART;TZID=UTC:20270215T080000
DTEND;TZID=UTC:20270215T170000
DTSTAMP:20260423T194911
CREATED:20260423T144013Z
LAST-MODIFIED:20260423T144032Z
UID:10000011-1802678400-1802710800@app.masterkeylive.com
SUMMARY:This is a Test Event
DESCRIPTION:
URL:https://app.masterkeylive.com/event/this-is-a-test-event/2027-02-15/
ATTACH;FMTTYPE=image/png:https://app.masterkeylive.com/wp-content/uploads/2026/04/28bbffaa-f7e7-4219-a06c-8ec6c7ed7958-e1776953394482.png
LOCATION:
END:VEVENT
BEGIN:VEVENT
DTSTART;TZID=UTC:20270315T080000
DTEND;TZID=UTC:20270315T170000
DTSTAMP:20260423T194911
CREATED:20260423T144013Z
LAST-MODIFIED:20260423T144032Z
UID:10000012-1805097600-1805130000@app.masterkeylive.com
SUMMARY:This is a Test Event
DESCRIPTION:
URL:https://app.masterkeylive.com/event/this-is-a-test-event/2027-03-15/
ATTACH;FMTTYPE=image/png:https://app.masterkeylive.com/wp-content/uploads/2026/04/28bbffaa-f7e7-4219-a06c-8ec6c7ed7958-e1776953394482.png
LOCATION:
END:VEVENT
BEGIN:VEVENT
DTSTART;TZID=UTC:20270419T080000
DTEND;TZID=UTC:20270419T170000
DTSTAMP:20260423T194911
CREATED:20260423T144013Z
LAST-MODIFIED:20260423T144032Z
UID:10000013-1808121600-1808154000@app.masterkeylive.com
SUMMARY:This is a Test Event
DESCRIPTION:
URL:https://app.masterkeylive.com/event/this-is-a-test-event/2027-04-19/
ATTACH;FMTTYPE=image/png:https://app.masterkeylive.com/wp-content/uploads/2026/04/28bbffaa-f7e7-4219-a06c-8ec6c7ed7958-e1776953394482.png
LOCATION:
END:VEVENT
BEGIN:VEVENT
DTSTART;TZID=UTC:20270517T080000
DTEND;TZID=UTC:20270517T170000
DTSTAMP:20260423T194911
CREATED:20260423T144013Z
LAST-MODIFIED:20260423T144032Z
UID:10000014-1810540800-1810573200@app.masterkeylive.com
SUMMARY:This is a Test Event
DESCRIPTION:
URL:https://app.masterkeylive.com/event/this-is-a-test-event/2027-05-17/
ATTACH;FMTTYPE=image/png:https://app.masterkeylive.com/wp-content/uploads/2026/04/28bbffaa-f7e7-4219-a06c-8ec6c7ed7958-e1776953394482.png
LOCATION:
END:VEVENT
BEGIN:VEVENT
DTSTART;TZID=UTC:20270621T080000
DTEND;TZID=UTC:20270621T170000
DTSTAMP:20260423T194911
CREATED:20260423T144013Z
LAST-MODIFIED:20260423T144032Z
UID:10000015-1813564800-1813597200@app.masterkeylive.com
SUMMARY:This is a Test Event
DESCRIPTION:
URL:https://app.masterkeylive.com/event/this-is-a-test-event/2027-06-21/
ATTACH;FMTTYPE=image/png:https://app.masterkeylive.com/wp-content/uploads/2026/04/28bbffaa-f7e7-4219-a06c-8ec6c7ed7958-e1776953394482.png
LOCATION:
END:VEVENT
BEGIN:VEVENT
DTSTART;TZID=UTC:20270719T080000
DTEND;TZID=UTC:20270719T170000
DTSTAMP:20260423T194911
CREATED:20260423T144013Z
LAST-MODIFIED:20260423T144032Z
UID:10000016-1815984000-1816016400@app.masterkeylive.com
SUMMARY:This is a Test Event
DESCRIPTION:
URL:https://app.masterkeylive.com/event/this-is-a-test-event/2027-07-19/
ATTACH;FMTTYPE=image/png:https://app.masterkeylive.com/wp-content/uploads/2026/04/28bbffaa-f7e7-4219-a06c-8ec6c7ed7958-e1776953394482.png
LOCATION:
END:VEVENT
BEGIN:VEVENT
DTSTART;TZID=UTC:20270816T080000
DTEND;TZID=UTC:20270816T170000
DTSTAMP:20260423T194911
CREATED:20260423T144013Z
LAST-MODIFIED:20260423T144032Z
UID:10000017-1818403200-1818435600@app.masterkeylive.com
SUMMARY:This is a Test Event
DESCRIPTION:
URL:https://app.masterkeylive.com/event/this-is-a-test-event/2027-08-16/
ATTACH;FMTTYPE=image/png:https://app.masterkeylive.com/wp-content/uploads/2026/04/28bbffaa-f7e7-4219-a06c-8ec6c7ed7958-e1776953394482.png
LOCATION:
END:VEVENT
BEGIN:VEVENT
DTSTART;TZID=UTC:20270920T080000
DTEND;TZID=UTC:20270920T170000
DTSTAMP:20260423T194911
CREATED:20260423T144013Z
LAST-MODIFIED:20260423T144032Z
UID:10000018-1821427200-1821459600@app.masterkeylive.com
SUMMARY:This is a Test Event
DESCRIPTION:
URL:https://app.masterkeylive.com/event/this-is-a-test-event/2027-09-20/
ATTACH;FMTTYPE=image/png:https://app.masterkeylive.com/wp-content/uploads/2026/04/28bbffaa-f7e7-4219-a06c-8ec6c7ed7958-e1776953394482.png
LOCATION:
END:VEVENT
BEGIN:VEVENT
DTSTART;TZID=UTC:20271018T080000
DTEND;TZID=UTC:20271018T170000
DTSTAMP:20260423T194911
CREATED:20260423T144013Z
LAST-MODIFIED:20260423T144032Z
UID:10000019-1823846400-1823878800@app.masterkeylive.com
SUMMARY:This is a Test Event
DESCRIPTION:
URL:https://app.masterkeylive.com/event/this-is-a-test-event/2027-10-18/
ATTACH;FMTTYPE=image/png:https://app.masterkeylive.com/wp-content/uploads/2026/04/28bbffaa-f7e7-4219-a06c-8ec6c7ed7958-e1776953394482.png
LOCATION:
END:VEVENT
BEGIN:VEVENT
DTSTART;TZID=UTC:20271115T080000
DTEND;TZID=UTC:20271115T170000
DTSTAMP:20260423T194911
CREATED:20260423T144013Z
LAST-MODIFIED:20260423T144032Z
UID:10000020-1826265600-1826298000@app.masterkeylive.com
SUMMARY:This is a Test Event
DESCRIPTION:
URL:https://app.masterkeylive.com/event/this-is-a-test-event/2027-11-15/
ATTACH;FMTTYPE=image/png:https://app.masterkeylive.com/wp-content/uploads/2026/04/28bbffaa-f7e7-4219-a06c-8ec6c7ed7958-e1776953394482.png
LOCATION:
END:VEVENT
BEGIN:VEVENT
DTSTART;TZID=UTC:20271220T080000
DTEND;TZID=UTC:20271220T170000
DTSTAMP:20260423T194911
CREATED:20260423T144013Z
LAST-MODIFIED:20260423T144032Z
UID:10000021-1829289600-1829322000@app.masterkeylive.com
SUMMARY:This is a Test Event
DESCRIPTION:
URL:https://app.masterkeylive.com/event/this-is-a-test-event/2027-12-20/
ATTACH;FMTTYPE=image/png:https://app.masterkeylive.com/wp-content/uploads/2026/04/28bbffaa-f7e7-4219-a06c-8ec6c7ed7958-e1776953394482.png
LOCATION:
END:VEVENT
BEGIN:VEVENT
DTSTART;TZID=UTC:20280117T080000
DTEND;TZID=UTC:20280117T170000
DTSTAMP:20260423T194911
CREATED:20260423T144013Z
LAST-MODIFIED:20260423T144032Z
UID:10000022-1831708800-1831741200@app.masterkeylive.com
SUMMARY:This is a Test Event
DESCRIPTION:
URL:https://app.masterkeylive.com/event/this-is-a-test-event/2028-01-17/
ATTACH;FMTTYPE=image/png:https://app.masterkeylive.com/wp-content/uploads/2026/04/28bbffaa-f7e7-4219-a06c-8ec6c7ed7958-e1776953394482.png
LOCATION:
END:VEVENT
BEGIN:VEVENT
DTSTART;TZID=UTC:20280221T080000
DTEND;TZID=UTC:20280221T170000
DTSTAMP:20260423T194911
CREATED:20260423T144013Z
LAST-MODIFIED:20260423T144032Z
UID:10000023-1834732800-1834765200@app.masterkeylive.com
SUMMARY:This is a Test Event
DESCRIPTION:
URL:https://app.masterkeylive.com/event/this-is-a-test-event/2028-02-21/
ATTACH;FMTTYPE=image/png:https://app.masterkeylive.com/wp-content/uploads/2026/04/28bbffaa-f7e7-4219-a06c-8ec6c7ed7958-e1776953394482.png
LOCATION:
END:VEVENT
BEGIN:VEVENT
DTSTART;TZID=UTC:20280320T080000
DTEND;TZID=UTC:20280320T170000
DTSTAMP:20260423T194911
CREATED:20260423T144013Z
LAST-MODIFIED:20260423T144032Z
UID:10000024-1837152000-1837184400@app.masterkeylive.com
SUMMARY:This is a Test Event
DESCRIPTION:
URL:https://app.masterkeylive.com/event/this-is-a-test-event/2028-03-20/
ATTACH;FMTTYPE=image/png:https://app.masterkeylive.com/wp-content/uploads/2026/04/28bbffaa-f7e7-4219-a06c-8ec6c7ed7958-e1776953394482.png
LOCATION:
END:VEVENT
BEGIN:VEVENT
DTSTART;TZID=UTC:20280417T080000
DTEND;TZID=UTC:20280417T170000
DTSTAMP:20260423T194911
CREATED:20260423T144013Z
LAST-MODIFIED:20260423T144032Z
UID:10000025-1839571200-1839603600@app.masterkeylive.com
SUMMARY:This is a Test Event
DESCRIPTION:
URL:https://app.masterkeylive.com/event/this-is-a-test-event/2028-04-17/
ATTACH;FMTTYPE=image/png:https://app.masterkeylive.com/wp-content/uploads/2026/04/28bbffaa-f7e7-4219-a06c-8ec6c7ed7958-e1776953394482.png
LOCATION:
END:VEVENT
BEGIN:VEVENT
DTSTART;TZID=UTC:20280515T080000
DTEND;TZID=UTC:20280515T170000
DTSTAMP:20260423T194911
CREATED:20260423T144013Z
LAST-MODIFIED:20260423T144032Z
UID:10000026-1841990400-1842022800@app.masterkeylive.com
SUMMARY:This is a Test Event
DESCRIPTION:
URL:https://app.masterkeylive.com/event/this-is-a-test-event/2028-05-15/
ATTACH;FMTTYPE=image/png:https://app.masterkeylive.com/wp-content/uploads/2026/04/28bbffaa-f7e7-4219-a06c-8ec6c7ed7958-e1776953394482.png
LOCATION:
END:VEVENT
BEGIN:VEVENT
DTSTART;TZID=UTC:20280619T080000
DTEND;TZID=UTC:20280619T170000
DTSTAMP:20260423T194911
CREATED:20260423T144013Z
LAST-MODIFIED:20260423T144032Z
UID:10000027-1845014400-1845046800@app.masterkeylive.com
SUMMARY:This is a Test Event
DESCRIPTION:
URL:https://app.masterkeylive.com/event/this-is-a-test-event/2028-06-19/
ATTACH;FMTTYPE=image/png:https://app.masterkeylive.com/wp-content/uploads/2026/04/28bbffaa-f7e7-4219-a06c-8ec6c7ed7958-e1776953394482.png
LOCATION:
END:VEVENT
BEGIN:VEVENT
DTSTART;TZID=UTC:20280717T080000
DTEND;TZID=UTC:20280717T170000
DTSTAMP:20260423T194911
CREATED:20260423T144013Z
LAST-MODIFIED:20260423T144032Z
UID:10000028-1847433600-1847466000@app.masterkeylive.com
SUMMARY:This is a Test Event
DESCRIPTION:
URL:https://app.masterkeylive.com/event/this-is-a-test-event/2028-07-17/
ATTACH;FMTTYPE=image/png:https://app.masterkeylive.com/wp-content/uploads/2026/04/28bbffaa-f7e7-4219-a06c-8ec6c7ed7958-e1776953394482.png
LOCATION:
END:VEVENT
BEGIN:VEVENT
DTSTART;TZID=UTC:20280821T080000
DTEND;TZID=UTC:20280821T170000
DTSTAMP:20260423T194911
CREATED:20260423T144013Z
LAST-MODIFIED:20260423T144032Z
UID:10000029-1850457600-1850490000@app.masterkeylive.com
SUMMARY:This is a Test Event
DESCRIPTION:
URL:https://app.masterkeylive.com/event/this-is-a-test-event/2028-08-21/
ATTACH;FMTTYPE=image/png:https://app.masterkeylive.com/wp-content/uploads/2026/04/28bbffaa-f7e7-4219-a06c-8ec6c7ed7958-e1776953394482.png
LOCATION:
END:VEVENT
BEGIN:VEVENT
DTSTART;TZID=UTC:20280918T080000
DTEND;TZID=UTC:20280918T170000
DTSTAMP:20260423T194911
CREATED:20260423T144013Z
LAST-MODIFIED:20260423T144032Z
UID:10000030-1852876800-1852909200@app.masterkeylive.com
SUMMARY:This is a Test Event
DESCRIPTION:
URL:https://app.masterkeylive.com/event/this-is-a-test-event/2028-09-18/
ATTACH;FMTTYPE=image/png:https://app.masterkeylive.com/wp-content/uploads/2026/04/28bbffaa-f7e7-4219-a06c-8ec6c7ed7958-e1776953394482.png
LOCATION:
END:VEVENT
BEGIN:VEVENT
DTSTART;TZID=UTC:20281016T080000
DTEND;TZID=UTC:20281016T170000
DTSTAMP:20260423T194911
CREATED:20260423T144013Z
LAST-MODIFIED:20260423T144032Z
UID:10000031-1855296000-1855328400@app.masterkeylive.com
SUMMARY:This is a Test Event
DESCRIPTION:
URL:https://app.masterkeylive.com/event/this-is-a-test-event/2028-10-16/
ATTACH;FMTTYPE=image/png:https://app.masterkeylive.com/wp-content/uploads/2026/04/28bbffaa-f7e7-4219-a06c-8ec6c7ed7958-e1776953394482.png
LOCATION:
END:VEVENT
END:VCALENDAR